BEGIN:VCALENDAR
VERSION:2.0
PRODID:-//Birr Parish - ECPv6.15.18//NONSGML v1.0//EN
CALSCALE:GREGORIAN
METHOD:PUBLISH
X-WR-CALNAME:Birr Parish
X-ORIGINAL-URL:https://www.stbrendansbirr.ie
X-WR-CALDESC:Events for Birr Parish
REFRESH-INTERVAL;VALUE=DURATION:PT1H
X-Robots-Tag:noindex
X-PUBLISHED-TTL:PT1H
BEGIN:VTIMEZONE
TZID:Europe/Dublin
BEGIN:STANDARD
TZOFFSETFROM:+0000
TZOFFSETTO:+0100
TZNAME:IST
DTSTART:20180325T010000
END:STANDARD
BEGIN:DAYLIGHT
TZOFFSETFROM:+0100
TZOFFSETTO:+0000
TZNAME:GMT
DTSTART:20181028T010000
END:DAYLIGHT
BEGIN:STANDARD
TZOFFSETFROM:+0000
TZOFFSETTO:+0100
TZNAME:IST
DTSTART:20190331T010000
END:STANDARD
BEGIN:DAYLIGHT
TZOFFSETFROM:+0100
TZOFFSETTO:+0000
TZNAME:GMT
DTSTART:20191027T010000
END:DAYLIGHT
BEGIN:STANDARD
TZOFFSETFROM:+0000
TZOFFSETTO:+0100
TZNAME:IST
DTSTART:20200329T010000
END:STANDARD
BEGIN:DAYLIGHT
TZOFFSETFROM:+0100
TZOFFSETTO:+0000
TZNAME:GMT
DTSTART:20201025T010000
END:DAYLIGHT
END:VTIMEZONE
BEGIN:VEVENT
DTSTART;TZID=Europe/Dublin:20190417T113000
DTEND;TZID=Europe/Dublin:20190417T113000
DTSTAMP:20260421T062448
CREATED:20190409T111138Z
LAST-MODIFIED:20190409T111139Z
UID:10000021-1555500600-1555500600@www.stbrendansbirr.ie
SUMMARY:Birr Library - Easter Story-time
DESCRIPTION:Birr Library – Easter Story-time (a Spring into Storytime event):\nWednesday\, April 17th: 11.30am. Special free story-time event with a Springtime and Easter theme. For under 8’s. All children must be accompanied by an adult.
URL:https://www.stbrendansbirr.ie/event/birr-library-easter-story-time/
END:VEVENT
BEGIN:VEVENT
DTSTART;TZID=Europe/Dublin:20190415T193000
DTEND;TZID=Europe/Dublin:20190415T193000
DTSTAMP:20260421T062448
CREATED:20190322T092707Z
LAST-MODIFIED:20190322T092707Z
UID:10000001-1555356600-1555356600@www.stbrendansbirr.ie
SUMMARY:Lenten Reconciliation Service
DESCRIPTION:Lenten Reconciliation Service in preparation for Easter will be held on Monday 15 April at 7.30pm.
URL:https://www.stbrendansbirr.ie/event/lenten-reconciliation-service/
END:VEVENT
BEGIN:VEVENT
DTSTART;TZID=Europe/Dublin:20190412T103000
DTEND;TZID=Europe/Dublin:20190412T133000
DTSTAMP:20260421T062448
CREATED:20190409T110735Z
LAST-MODIFIED:20190409T110735Z
UID:10000011-1555065000-1555075800@www.stbrendansbirr.ie
SUMMARY:Easter Coffee Morning and Bake Sale
DESCRIPTION:Easter Coffee Morning and Bake Sale in aid of Carrig National School will be held on 12th April from 10.30 –\n1.30 in Carrig Hall. \nAll support will be greatly appreciated.
URL:https://www.stbrendansbirr.ie/event/easter-coffee-morning-and-bake-sale/
END:VEVENT
BEGIN:VEVENT
DTSTART;TZID=Europe/Dublin:20190329T100000
DTEND;TZID=Europe/Dublin:20190331T160000
DTSTAMP:20260421T062448
CREATED:20190312T092323Z
LAST-MODIFIED:20190312T092323Z
UID:10000005-1553853600-1554048000@www.stbrendansbirr.ie
SUMMARY:Shalom Media Ireland - Residential Retreat
DESCRIPTION:Shalom Media Ireland is running a residential retreat from Friday 29th March (10.00 a.m.) to Sunday 31st March (4.00 p.m.) in the Ceilli Community\, Harbour Road\, Kilbeggan. Register at www.shalommedia.org or contact 087 248 4145 or 086 301 0681 for more details.
URL:https://www.stbrendansbirr.ie/event/shalom-media-ireland-residential-retreat/
END:VEVENT
BEGIN:VEVENT
DTSTART;TZID=Europe/Dublin:20190323T103000
DTEND;TZID=Europe/Dublin:20190323T130000
DTSTAMP:20260421T062448
CREATED:20190322T092558Z
LAST-MODIFIED:20190322T092558Z
UID:10000007-1553337000-1553346000@www.stbrendansbirr.ie
SUMMARY:Climate Change Lecture
DESCRIPTION:Climate Change – What we can do. \nLecture by Professor John Sweeney in Obama Plaza on Saturday 23rd March from 10.30 a.m. to 1.00 p.m. \nAll welcome. For more information/book a place contact Catherine on 086 321 9164.
URL:https://www.stbrendansbirr.ie/event/climate-change-lecture/
END:VEVENT
BEGIN:VEVENT
DTSTART;TZID=Europe/Dublin:20190310T110000
DTEND;TZID=Europe/Dublin:20190310T160000
DTSTAMP:20260421T062448
CREATED:20190312T092440Z
LAST-MODIFIED:20190312T092701Z
UID:10000006-1552215600-1552233600@www.stbrendansbirr.ie
SUMMARY:Birr Community Games
DESCRIPTION:Art\, Model-making & Handwriting competition for Under 8 to Under 16 Girls & Boys in Marian Hall Sunday 10th March 2019 from 11- 4 pm. All welcome.
URL:https://www.stbrendansbirr.ie/event/birr-community-games/
END:VEVENT
BEGIN:VEVENT
DTSTART;VALUE=DATE:20190302
DTEND;VALUE=DATE:20190303
DTSTAMP:20260421T062448
CREATED:20190114T090701Z
LAST-MODIFIED:20190228T092655Z
UID:10000003-1551484800-1551571199@www.stbrendansbirr.ie
SUMMARY:Confirmation 2019
DESCRIPTION:Most Rev Fintan Monahan\, Bishop of Killaloe will administer the Sacrament of Confirmation to children and adults of our parish on next Saturday\,\n2nd March. There will be two ceremonies; the first begins at 11 am and the second at 3pm. All are welcome to attend the Masses and to share in these joyful celebrations of the outpouring of the Holy Spirit. Please keep the children and all involved in these ceremonies in your prayers during the coming week and especially on Saturday. For those attending the Confirmation ceremonies please note that no parking is allowed in the church grounds on Saturday. \nPlease note that there is no 10am Mass on next Saturday morning due to the celebration of Confirmation.
URL:https://www.stbrendansbirr.ie/event/confirmation-dates/
END:VEVENT
BEGIN:VEVENT
DTSTART;TZID=Europe/Dublin:20190228T200000
DTEND;TZID=Europe/Dublin:20190228T213000
DTSTAMP:20260421T062448
CREATED:20190228T092337Z
LAST-MODIFIED:20190228T092545Z
UID:10000004-1551384000-1551389400@www.stbrendansbirr.ie
SUMMARY:Faith Formation - Alpha Course
DESCRIPTION:A Faith Formation programme called the Alpha Course is commencing on Thursday\, 7th March in the Resource Centre\, Glebe Street from 8.00 p.m. – 9.30 p.m.\nThis is an interfaith event. Everyone is encouraged to come\, and if possible to bring a friend.
URL:https://www.stbrendansbirr.ie/event/faith-formation/
END:VEVENT
END:VCALENDAR