BEGIN:VCALENDAR
VERSION:2.0
PRODID:-//Birr Parish - ECPv6.15.18//NONSGML v1.0//EN
CALSCALE:GREGORIAN
METHOD:PUBLISH
X-WR-CALNAME:Birr Parish
X-ORIGINAL-URL:https://www.stbrendansbirr.ie
X-WR-CALDESC:Events for Birr Parish
REFRESH-INTERVAL;VALUE=DURATION:PT1H
X-Robots-Tag:noindex
X-PUBLISHED-TTL:PT1H
BEGIN:VTIMEZONE
TZID:Europe/Dublin
BEGIN:STANDARD
TZOFFSETFROM:+0000
TZOFFSETTO:+0100
TZNAME:IST
DTSTART:20200329T010000
END:STANDARD
BEGIN:DAYLIGHT
TZOFFSETFROM:+0100
TZOFFSETTO:+0000
TZNAME:GMT
DTSTART:20201025T010000
END:DAYLIGHT
BEGIN:STANDARD
TZOFFSETFROM:+0000
TZOFFSETTO:+0100
TZNAME:IST
DTSTART:20210328T010000
END:STANDARD
BEGIN:DAYLIGHT
TZOFFSETFROM:+0100
TZOFFSETTO:+0000
TZNAME:GMT
DTSTART:20211031T010000
END:DAYLIGHT
BEGIN:STANDARD
TZOFFSETFROM:+0000
TZOFFSETTO:+0100
TZNAME:IST
DTSTART:20220327T010000
END:STANDARD
BEGIN:DAYLIGHT
TZOFFSETFROM:+0100
TZOFFSETTO:+0000
TZNAME:GMT
DTSTART:20221030T010000
END:DAYLIGHT
END:VTIMEZONE
BEGIN:VEVENT
DTSTART;TZID=Europe/Dublin:20210312T080000
DTEND;TZID=Europe/Dublin:20210312T170000
DTSTAMP:20260420T101413
CREATED:20210312T231453Z
LAST-MODIFIED:20210312T231459Z
UID:10000023-1615536000-1615568400@www.stbrendansbirr.ie
SUMMARY:Year of St. Joseph 2021
DESCRIPTION:Year of St. Joseph 2021\nPope Francis is well known\nfor his devotion to Joseph\,\nhusband of Mary\, foster\nfather of Jesus and Patron of the Universal\nChurch. He has\nwritten a meditation on St. Joseph\ncalled “With A\nFather’s Heart”.\nHe wanted to “share\nsome personal\nreflections on this\nextraordinary figure\nso close to our\nhuman experience”.\nSt. Joseph lived his\nlife in the middle of a\nchallenging and\nchanging world. The only\nreal constant in his life was his trust in God who\nwas always true to his promise to be with us in\nevery moment.\nPope Francis announced a “Year of St. Joseph”\nwhich will run until December 8th. Friday next\,\n19th March is the feast of St. Joseph. We have\nplaced the statue of St. Joseph in a prominent\nplace in St. Brendan’s. Prayer cards are available\nfor your personal reflection.\nSt. Joseph is a father who is beloved of Jesus and\nMary. He is a tender and loving father. He accepts\nwith trust that which he does not fully understand\nknowing that God sees the bigger picture. St. Joseph\, a man of faith\, hope and love.\nA Triduum of Prayer to St. Joseph – Thursday\,\nFriday and Saturday at 10.00 a.m. Mass with\nPrayer to the Sleeping St. Joseph.
URL:https://www.stbrendansbirr.ie/event/year-of-st-joseph-2021/
END:VEVENT
END:VCALENDAR